BEGIN:VCALENDAR
VERSION:2.0
PRODID:-//P-サポ - ECPv6.15.20//NONSGML v1.0//EN
CALSCALE:GREGORIAN
METHOD:PUBLISH
X-WR-CALNAME:P-サポ
X-ORIGINAL-URL:https://p-support.jp
X-WR-CALDESC:P-サポ のイベント
REFRESH-INTERVAL;VALUE=DURATION:PT1H
X-Robots-Tag:noindex
X-PUBLISHED-TTL:PT1H
BEGIN:VTIMEZONE
TZID:UTC
BEGIN:STANDARD
TZOFFSETFROM:+0000
TZOFFSETTO:+0000
TZNAME:UTC
DTSTART:20250101T000000
END:STANDARD
END:VTIMEZONE
BEGIN:VEVENT
DTSTART;TZID=UTC:20260517T100000
DTEND;TZID=UTC:20260617T163000
DTSTAMP:20260420T213702
CREATED:20260420T092836Z
LAST-MODIFIED:20260420T093406Z
UID:162-1779012000-1781713800@p-support.jp
SUMMARY:5月月例「CROSSOVER」
DESCRIPTION:
URL:https://p-support.jp/event/5%e6%9c%88%e6%9c%88%e4%be%8b%e3%80%8ccrossover%e3%80%8d/
LOCATION:京都朝鮮初級学校体育館\, 伏見区小栗栖丸山１－２\, 京都市\, 京都府\, 601-1442\, Japan
CATEGORIES:月例会
END:VEVENT
BEGIN:VEVENT
DTSTART;TZID=UTC:20260627T095000
DTEND;TZID=UTC:20260627T150000
DTSTAMP:20260420T213702
CREATED:20260420T094924Z
LAST-MODIFIED:20260420T094924Z
UID:168-1782553800-1782572400@p-support.jp
SUMMARY:6月月例「ハンドインハンド」
DESCRIPTION:
URL:https://p-support.jp/event/6%e6%9c%88%e6%9c%88%e4%be%8b%e3%80%8c%e3%83%8f%e3%83%b3%e3%83%89%e3%82%a4%e3%83%b3%e3%83%8f%e3%83%b3%e3%83%89%e3%80%8d/
LOCATION:国立病院機構　宇多野病院\, 右京区鳴滝音戸山町８\, 京都市\, 京都府\, 616-8255\, Japan
CATEGORIES:月例会
END:VEVENT
END:VCALENDAR