BEGIN:VCALENDAR
VERSION:2.0
PRODID:-//P-サポ - ECPv6.15.20//NONSGML v1.0//EN
CALSCALE:GREGORIAN
METHOD:PUBLISH
X-WR-CALNAME:P-サポ
X-ORIGINAL-URL:https://p-support.jp
X-WR-CALDESC:P-サポ のイベント
REFRESH-INTERVAL;VALUE=DURATION:PT1H
X-Robots-Tag:noindex
X-PUBLISHED-TTL:PT1H
BEGIN:VTIMEZONE
TZID:UTC
BEGIN:STANDARD
TZOFFSETFROM:+0000
TZOFFSETTO:+0000
TZNAME:UTC
DTSTART:20250101T000000
END:STANDARD
END:VTIMEZONE
BEGIN:VEVENT
DTSTART;TZID=UTC:20260420T190000
DTEND;TZID=UTC:20260420T210000
DTSTAMP:20260420T180719
CREATED:20260329T075853Z
LAST-MODIFIED:20260420T063927Z
UID:72-1776711600-1776718800@p-support.jp
SUMMARY:４月理事会
DESCRIPTION:
URL:https://p-support.jp/event/%ef%bc%94%e6%9c%88%e7%90%86%e4%ba%8b%e4%bc%9a/
LOCATION:リノホテル７F\, 京都府京都市右京区西院三蔵町１７\, Japan
CATEGORIES:理事会
END:VEVENT
END:VCALENDAR